Workbook

Sheet Formular
B2: M A N N S C H A F T S I N F O S A I S O N 2 0 2 6 / 2 0 2 7
I3: Daten Stand 18.09.2026
B5: Vereinsnummer | C5: =IFERROR(INDEX(Daten!$A$2:$A$20,MATCH(F5,Daten!$B$2:$B$21,0)),"") -> 51110 | E5: Verein / Bruderschaft | F5: St. Hub. Neuenkirchen
B9: Klasse | C9: 07 Schützenklasse | D9: Gruppe | E9: 2 | F9: Mannschaft | G9: 1
B10: Gegner 1 | C10: Gilde Verl 2 | D10: Gegner 2 | E10: Bokel 1 | F10: Gegner 3
B12: eVewa Nr | C12: =IFERROR(INDEX(Daten!$C$2:$C$1300,MATCH(E12,Daten!$D$2:$D$1300,0)),"") -> 1259619 | D12: Name, Vorname | E12: Kent, Dave John | G12: Geb. | H12: =IFERROR(INDEX(Daten!$E$2:$E$1300,MATCH(E12,Daten!$D$2:$D$1300,0)),"") -> 23534
B13: eVewa Nr | C13: =IFERROR(INDEX(Daten!$C$2:$C$1300,MATCH(E13,Daten!$D$2:$D$1300,0)),"") -> 8721526 | D13: Name, Vorname | E13: Bügemannskemper, Lars | G13: Geb. | H13: =IFERROR(INDEX(Daten!$E$2:$E$1300,MATCH(E13,Daten!$D$2:$D$1300,0)),"") -> 35223
B14: eVewa Nr | C14: =IFERROR(INDEX(Daten!$C$2:$C$1300,MATCH(E14,Daten!$D$2:$D$1300,0)),"") -> 8757607 | D14: Name, Vorname | E14: Schwienheer, Marvin | G14: Geb. | H14: =IFERROR(INDEX(Daten!$E$2:$E$1300,MATCH(E14,Daten!$D$2:$D$1300,0)),"") -> 33777
B15: eVewa Nr | C15: =IFERROR(INDEX(Daten!$C$2:$C$1300,MATCH(E15,Daten!$D$2:$D$1300,0)),"") -> 1259520 | D15: Name, Vorname | E15: Hansmeier, Marina | G15: Geb. | H15: =IFERROR(INDEX(Daten!$E$2:$E$1300,MATCH(E15,Daten!$D$2:$D$1300,0)),"") -> 32869
B16: eVewa Nr | C16: =IFERROR(INDEX(Daten!$C$2:$C$1300,MATCH(E16,Daten!$D$2:$D$1300,0)),"") -> 8720521 | D16: Name, Vorname | E16: Voßhenrich, Matthias | G16: Geb. | H16: =IFERROR(INDEX(Daten!$E$2:$E$1300,MATCH(E16,Daten!$D$2:$D$1300,0)),"") -> 26575
B17: Kontaktperson | D17: Telefon
B22: Klasse | C22: 11 Altersklasse (Auflage) | D22: Gruppe | E22: 4 | F22: Mannschaft | G22: 3
B23: Gegner 1 | C23: Varensell 2 | D23: Gegner 2 | E23: Langenberg 4 | F23: Gegner 3
B25: eVewa Nr | C25: =IFERROR(INDEX(Daten!$C$2:$C$1300,MATCH(E25,Daten!$D$2:$D$1300,0)),"") -> 8729322 | D25: Name, Vorname | E25: Bunger, Dirk | G25: Geb. | H25: =IFERROR(INDEX(Daten!$E$2:$E$1300,MATCH(E25,Daten!$D$2:$D$1300,0)),"") -> 25846
B26: eVewa Nr | C26: =IFERROR(INDEX(Daten!$C$2:$C$1300,MATCH(E26,Daten!$D$2:$D$1300,0)),"") -> 8693511 | D26: Name, Vorname | E26: Schemhaus, Heinz | G26: Geb. | H26: =IFERROR(INDEX(Daten!$E$2:$E$1300,MATCH(E26,Daten!$D$2:$D$1300,0)),"") -> 25501
B27: eVewa Nr | C27: =IFERROR(INDEX(Daten!$C$2:$C$1300,MATCH(E27,Daten!$D$2:$D$1300,0)),"") -> 1259510 | D27: Name, Vorname | E27: Funke, Martina | G27: Geb. | H27: =IFERROR(INDEX(Daten!$E$2:$E$1300,MATCH(E27,Daten!$D$2:$D$1300,0)),"") -> 24481
B28: eVewa Nr | C28: =IFERROR(INDEX(Daten!$C$2:$C$1300,MATCH(E28,Daten!$D$2:$D$1300,0)),"") -> 8720521 | D28: Name, Vorname | E28: Voßhenrich, Matthias | G28: Geb. | H28: =IFERROR(INDEX(Daten!$E$2:$E$1300,MATCH(E28,Daten!$D$2:$D$1300,0)),"") -> 26575
B29: eVewa Nr | C29: =IFERROR(INDEX(Daten!$C$2:$C$1300,MATCH(E29,Daten!$D$2:$D$1300,0)),"") | D29: Name, Vorname | G29: Geb. | H29: =IFERROR(INDEX(Daten!$E$2:$E$1300,MATCH(E29,Daten!$D$2:$D$1300,0)),"")
B30: Kontaktperson | C30: Heinz Schemhaus | D30: Telefon
B35: Klasse | C35: 12A Altersklasse (Auflage) | D35: Gruppe | E35: 3 | F35: Mannschaft | G35: 5
B36: Gegner 1 | C36: Mastholte 2 | D36: Gegner 2 | E36: Batenhorst 1 | F36: Gegner 3
B38: eVewa Nr | C38: =IFERROR(INDEX(Daten!$C$2:$C$1300,MATCH(E38,Daten!$D$2:$D$1300,0)),"") -> 8706929 | D38: Name, Vorname | E38: Heine, Jürgen | G38: Geb. | H38: =IFERROR(INDEX(Daten!$E$2:$E$1300,MATCH(E38,Daten!$D$2:$D$1300,0)),"") -> 24777
B39: eVewa Nr | C39: =IFERROR(INDEX(Daten!$C$2:$C$1300,MATCH(E39,Daten!$D$2:$D$1300,0)),"") -> 1259619 | D39: Name, Vorname | E39: Kent, Dave John | G39: Geb. | H39: =IFERROR(INDEX(Daten!$E$2:$E$1300,MATCH(E39,Daten!$D$2:$D$1300,0)),"") -> 23534
B40: eVewa Nr | C40: =IFERROR(INDEX(Daten!$C$2:$C$1300,MATCH(E40,Daten!$D$2:$D$1300,0)),"") -> 8708085 | D40: Name, Vorname | E40: Stukemeier, Stefanie | G40: Geb. | H40: =IFERROR(INDEX(Daten!$E$2:$E$1300,MATCH(E40,Daten!$D$2:$D$1300,0)),"") -> 25820
B41: eVewa Nr | C41: =IFERROR(INDEX(Daten!$C$2:$C$1300,MATCH(E41,Daten!$D$2:$D$1300,0)),"") | D41: Name, Vorname | G41: Geb. | H41: =IFERROR(INDEX(Daten!$E$2:$E$1300,MATCH(E41,Daten!$D$2:$D$1300,0)),"")
B42: eVewa Nr | C42: =IFERROR(INDEX(Daten!$C$2:$C$1300,MATCH(E42,Daten!$D$2:$D$1300,0)),"") | D42: Name, Vorname | G42: Geb. | H42: =IFERROR(INDEX(Daten!$E$2:$E$1300,MATCH(E42,Daten!$D$2:$D$1300,0)),"")
B43: Kontaktperson | D43: Telefon | E43: Schatzler-Godehard, Frank
B48: Klasse | C48: 12B Altersklasse (Auflage) | D48: Gruppe | E48: 1 | F48: Mannschaft | G48: 4
B49: Gegner 1 | C49: Benteler 1 | D49: Gegner 2 | E49: Wiedenbrück 1 | F49: Gegner 3
B51: eVewa Nr | C51: =IFERROR(INDEX(Daten!$C$2:$C$1300,MATCH(E51,Daten!$D$2:$D$1300,0)),"") -> 8672355 | D51: Name, Vorname | E51: Krull, Sven | G51: Geb. | H51: =IFERROR(INDEX(Daten!$E$2:$E$1300,MATCH(E51,Daten!$D$2:$D$1300,0)),"") -> 25928
B52: eVewa Nr | C52: =IFERROR(INDEX(Daten!$C$2:$C$1300,MATCH(E52,Daten!$D$2:$D$1300,0)),"") -> 8692224 | D52: Name, Vorname | E52: Richter, Frank | G52: Geb. | H52: =IFERROR(INDEX(Daten!$E$2:$E$1300,MATCH(E52,Daten!$D$2:$D$1300,0)),"") -> 24790
B53: eVewa Nr | C53: =IFERROR(INDEX(Daten!$C$2:$C$1300,MATCH(E53,Daten!$D$2:$D$1300,0)),"") -> 8691511 | D53: Name, Vorname | E53: Wördekemper, Roland | G53: Geb. | H53: =IFERROR(INDEX(Daten!$E$2:$E$1300,MATCH(E53,Daten!$D$2:$D$1300,0)),"") -> 25188
B54: eVewa Nr | C54: =IFERROR(INDEX(Daten!$C$2:$C$1300,MATCH(E54,Daten!$D$2:$D$1300,0)),"") -> 1361545 | D54: Name, Vorname | E54: Funke, Walter | G54: Geb. | H54: =IFERROR(INDEX(Daten!$E$2:$E$1300,MATCH(E54,Daten!$D$2:$D$1300,0)),"") -> 23729
B55: eVewa Nr | C55: =IFERROR(INDEX(Daten!$C$2:$C$1300,MATCH(E55,Daten!$D$2:$D$1300,0)),"") -> 8680295 | D55: Name, Vorname | E55: Andersen, Georg | G55: Geb. | H55: =IFERROR(INDEX(Daten!$E$2:$E$1300,MATCH(E55,Daten!$D$2:$D$1300,0)),"") -> 24073
B56: Kontaktperson | C56: Walter Funke | D56: Telefon
B61: Klasse | C61: 14 Seniorenklasse (Auflage) | D61: Gruppe | E61: 2 | F61: Mannschaft | G61: 1
B62: Gegner 1 | C62: Langenberg 2 | D62: Gegner 2 | E62: Hub. Avenwedde 1 | F62: Gegner 3 | G62: Batenhorst 2
B64: eVewa Nr | C64: =IFERROR(INDEX(Daten!$C$2:$C$1300,MATCH(E64,Daten!$D$2:$D$1300,0)),"") -> 1442009 | D64: Name, Vorname | E64: Ostermann, Frank | G64: Geb. | H64: =IFERROR(INDEX(Daten!$E$2:$E$1300,MATCH(E64,Daten!$D$2:$D$1300,0)),"") -> 22824
B65: eVewa Nr | C65: =IFERROR(INDEX(Daten!$C$2:$C$1300,MATCH(E65,Daten!$D$2:$D$1300,0)),"") -> 1259513 | D65: Name, Vorname | E65: Funkenmeier, Wolfgang | G65: Geb. | H65: =IFERROR(INDEX(Daten!$E$2:$E$1300,MATCH(E65,Daten!$D$2:$D$1300,0)),"") -> 23222
B66: eVewa Nr | C66: =IFERROR(INDEX(Daten!$C$2:$C$1300,MATCH(E66,Daten!$D$2:$D$1300,0)),"") -> 1410563 | D66: Name, Vorname | E66: Kriener , Michael | G66: Geb. | H66: =IFERROR(INDEX(Daten!$E$2:$E$1300,MATCH(E66,Daten!$D$2:$D$1300,0)),"") -> 23100
B67: eVewa Nr | C67: =IFERROR(INDEX(Daten!$C$2:$C$1300,MATCH(E67,Daten!$D$2:$D$1300,0)),"") | D67: Name, Vorname | G67: Geb. | H67: =IFERROR(INDEX(Daten!$E$2:$E$1300,MATCH(E67,Daten!$D$2:$D$1300,0)),"")
B68: eVewa Nr | C68: =IFERROR(INDEX(Daten!$C$2:$C$1300,MATCH(E68,Daten!$D$2:$D$1300,0)),"") | D68: Name, Vorname | G68: Geb. | H68: =IFERROR(INDEX(Daten!$E$2:$E$1300,MATCH(E68,Daten!$D$2:$D$1300,0)),"")
B69: Kontaktperson | C69: Frank Ostermann | D69: Telefon
B74: Klasse | C74: 15 Luftpistolenklasse | D74: Gruppe | E74: 2 | F74: Mannschaft | G74: 1
B75: Gegner 1 | C75: Westerwiehe 1 | D75: Gegner 2 | E75: Kaunitz 1 | F75: Gegner 3
B77: eVewa Nr | C77: =IFERROR(INDEX(Daten!$C$2:$C$1300,MATCH(E77,Daten!$D$2:$D$1300,0)),"") -> 1259513 | D77: Name, Vorname | E77: Funkenmeier, Wolfgang | G77: Geb. | H77: =IFERROR(INDEX(Daten!$E$2:$E$1300,MATCH(E77,Daten!$D$2:$D$1300,0)),"") -> 23222
B78: eVewa Nr | C78: =IFERROR(INDEX(Daten!$C$2:$C$1300,MATCH(E78,Daten!$D$2:$D$1300,0)),"") -> 8715429 | D78: Name, Vorname | E78: Gerks, Chistian | G78: Geb. | H78: =IFERROR(INDEX(Daten!$E$2:$E$1300,MATCH(E78,Daten!$D$2:$D$1300,0)),"") -> 33861
B79: eVewa Nr | C79: =IFERROR(INDEX(Daten!$C$2:$C$1300,MATCH(E79,Daten!$D$2:$D$1300,0)),"") -> 8720521 | D79: Name, Vorname | E79: Voßhenrich, Matthias | G79: Geb. | H79: =IFERROR(INDEX(Daten!$E$2:$E$1300,MATCH(E79,Daten!$D$2:$D$1300,0)),"") -> 26575
B80: eVewa Nr | C80: =IFERROR(INDEX(Daten!$C$2:$C$1300,MATCH(E80,Daten!$D$2:$D$1300,0)),"") | D80: Name, Vorname | G80: Geb. | H80: =IFERROR(INDEX(Daten!$E$2:$E$1300,MATCH(E80,Daten!$D$2:$D$1300,0)),"")
B81: eVewa Nr | C81: =IFERROR(INDEX(Daten!$C$2:$C$1300,MATCH(E81,Daten!$D$2:$D$1300,0)),"") | D81: Name, Vorname | G81: Geb. | H81: =IFERROR(INDEX(Daten!$E$2:$E$1300,MATCH(E81,Daten!$D$2:$D$1300,0)),"")
B82: Kontaktperson | C82: Matthias Voßhenrich | D82: Telefon
B87: Klasse | C87: 16 Luftpistolenklasse | D87: Gruppe | E87: 2 | F87: Mannschaft | G87: 2
B88: Gegner 1 | C88: Bokel 1 | D88: Gegner 2 | E88: Gilde Verl 2 | F88: Gegner 3
B90: eVewa Nr | C90: =IFERROR(INDEX(Daten!$C$2:$C$1300,MATCH(E90,Daten!$D$2:$D$1300,0)),"") -> 1259517 | D90: Name, Vorname | E90: Gerks, Beate | G90: Geb. | H90: =IFERROR(INDEX(Daten!$E$2:$E$1300,MATCH(E90,Daten!$D$2:$D$1300,0)),"") -> 24281
B91: eVewa Nr | C91: =IFERROR(INDEX(Daten!$C$2:$C$1300,MATCH(E91,Daten!$D$2:$D$1300,0)),"") -> 8693511 | D91: Name, Vorname | E91: Schemhaus, Heinz | G91: Geb. | H91: =IFERROR(INDEX(Daten!$E$2:$E$1300,MATCH(E91,Daten!$D$2:$D$1300,0)),"") -> 25501
B92: eVewa Nr | C92: =IFERROR(INDEX(Daten!$C$2:$C$1300,MATCH(E92,Daten!$D$2:$D$1300,0)),"") -> 8691511 | D92: Name, Vorname | E92: Wördekemper, Roland | G92: Geb. | H92: =IFERROR(INDEX(Daten!$E$2:$E$1300,MATCH(E92,Daten!$D$2:$D$1300,0)),"") -> 25188
B93: eVewa Nr | C93: =IFERROR(INDEX(Daten!$C$2:$C$1300,MATCH(E93,Daten!$D$2:$D$1300,0)),"") -> 8721526 | D93: Name, Vorname | E93: Bügemannskemper, Lars | G93: Geb. | H93: =IFERROR(INDEX(Daten!$E$2:$E$1300,MATCH(E93,Daten!$D$2:$D$1300,0)),"") -> 35223
B94: eVewa Nr | C94: =IFERROR(INDEX(Daten!$C$2:$C$1300,MATCH(E94,Daten!$D$2:$D$1300,0)),"") -> 1361545 | D94: Name, Vorname | E94: Funke, Walter | G94: Geb. | H94: =IFERROR(INDEX(Daten!$E$2:$E$1300,MATCH(E94,Daten!$D$2:$D$1300,0)),"") -> 23729
B95: Kontaktperson | C95: Roland Wördekemper | D95: Telefon
B100: Klasse | D100: Gruppe | F100: Mannschaft
B101: Gegner 1 | D101: Gegner 2 | F101: Gegner 3
B103: eVewa Nr | C103: =IFERROR(INDEX(Daten!$C$2:$C$1300,MATCH(E103,Daten!$D$2:$D$1300,0)),"") | D103: Name, Vorname | G103: Geb. | H103: =IFERROR(INDEX(Daten!$E$2:$E$1300,MATCH(E103,Daten!$D$2:$D$1300,0)),"")
B104: eVewa Nr | C104: =IFERROR(INDEX(Daten!$C$2:$C$1300,MATCH(E104,Daten!$D$2:$D$1300,0)),"") | D104: Name, Vorname | G104: Geb. | H104: =IFERROR(INDEX(Daten!$E$2:$E$1300,MATCH(E104,Daten!$D$2:$D$1300,0)),"")
B105: eVewa Nr | C105: =IFERROR(INDEX(Daten!$C$2:$C$1300,MATCH(E105,Daten!$D$2:$D$1300,0)),"") | D105: Name, Vorname | G105: Geb. | H105: =IFERROR(INDEX(Daten!$E$2:$E$1300,MATCH(E105,Daten!$D$2:$D$1300,0)),"")
B106: eVewa Nr | C106: =IFERROR(INDEX(Daten!$C$2:$C$1300,MATCH(E106,Daten!$D$2:$D$1300,0)),"") | D106: Name, Vorname | G106: Geb. | H106: =IFERROR(INDEX(Daten!$E$2:$E$1300,MATCH(E106,Daten!$D$2:$D$1300,0)),"")
B107: eVewa Nr | C107: =IFERROR(INDEX(Daten!$C$2:$C$1300,MATCH(E107,Daten!$D$2:$D$1300,0)),"") | D107: Name, Vorname | G107: Geb. | H107: =IFERROR(INDEX(Daten!$E$2:$E$1300,MATCH(E107,Daten!$D$2:$D$1300,0)),"")
B108: Kontaktperson | D108: Telefon
B113: Klasse | D113: Gruppe | F113: Mannschaft
B114: Gegner 1 | D114: Gegner 2 | F114: Gegner 3
B116: eVewa Nr | C116: =IFERROR(INDEX(Daten!$C$2:$C$1300,MATCH(E116,Daten!$D$2:$D$1300,0)),"") | D116: Name, Vorname | G116: Geb. | H116: =IFERROR(INDEX(Daten!$E$2:$E$1300,MATCH(E116,Daten!$D$2:$D$1300,0)),"")
B117: eVewa Nr | C117: =IFERROR(INDEX(Daten!$C$2:$C$1300,MATCH(E117,Daten!$D$2:$D$1300,0)),"") | D117: Name, Vorname | G117: Geb. | H117: =IFERROR(INDEX(Daten!$E$2:$E$1300,MATCH(E117,Daten!$D$2:$D$1300,0)),"")
B118: eVewa Nr | C118: =IFERROR(INDEX(Daten!$C$2:$C$1300,MATCH(E118,Daten!$D$2:$D$1300,0)),"") | D118: Name, Vorname | G118: Geb. | H118: =IFERROR(INDEX(Daten!$E$2:$E$1300,MATCH(E118,Daten!$D$2:$D$1300,0)),"")
B119: eVewa Nr | C119: =IFERROR(INDEX(Daten!$C$2:$C$1300,MATCH(E119,Daten!$D$2:$D$1300,0)),"") | D119: Name, Vorname | G119: Geb. | H119: =IFERROR(INDEX(Daten!$E$2:$E$1300,MATCH(E119,Daten!$D$2:$D$1300,0)),"")
B120: eVewa Nr | C120: =IFERROR(INDEX(Daten!$C$2:$C$1300,MATCH(E120,Daten!$D$2:$D$1300,0)),"") | D120: Name, Vorname | G120: Geb. | H120: =IFERROR(INDEX(Daten!$E$2:$E$1300,MATCH(E120,Daten!$D$2:$D$1300,0)),"")
B121: Kontaktperson | D121: Telefon
B126: Klasse | D126: Gruppe | F126: Mannschaft
B127: Gegner 1 | D127: Gegner 2 | F127: Gegner 3
B129: eVewa Nr | C129: =IFERROR(INDEX(Daten!$C$2:$C$1300,MATCH(E129,Daten!$D$2:$D$1300,0)),"") | D129: Name, Vorname | G129: Geb. | H129: =IFERROR(INDEX(Daten!$E$2:$E$1300,MATCH(E129,Daten!$D$2:$D$1300,0)),"")
B130: eVewa Nr | C130: =IFERROR(INDEX(Daten!$C$2:$C$1300,MATCH(E130,Daten!$D$2:$D$1300,0)),"") | D130: Name, Vorname | G130: Geb. | H130: =IFERROR(INDEX(Daten!$E$2:$E$1300,MATCH(E130,Daten!$D$2:$D$1300,0)),"")
B131: eVewa Nr | C131: =IFERROR(INDEX(Daten!$C$2:$C$1300,MATCH(E131,Daten!$D$2:$D$1300,0)),"") | D131: Name, Vorname | G131: Geb. | H131: =IFERROR(INDEX(Daten!$E$2:$E$1300,MATCH(E131,Daten!$D$2:$D$1300,0)),"")
B132: eVewa Nr | C132: =IFERROR(INDEX(Daten!$C$2:$C$1300,MATCH(E132,Daten!$D$2:$D$1300,0)),"") | D132: Name, Vorname | G132: Geb. | H132: =IFERROR(INDEX(Daten!$E$2:$E$1300,MATCH(E132,Daten!$D$2:$D$1300,0)),"")
B133: eVewa Nr | C133: =IFERROR(INDEX(Daten!$C$2:$C$1300,MATCH(E133,Daten!$D$2:$D$1300,0)),"") | D133: Name, Vorname | G133: Geb. | H133: =IFERROR(INDEX(Daten!$E$2:$E$1300,MATCH(E133,Daten!$D$2:$D$1300,0)),"")
B134: Kontaktperson | D134: Telefon
B139: Klasse | D139: Gruppe | F139: Mannschaft
B140: Gegner 1 | D140: Gegner 2 | F140: Gegner 3
B142: eVewa Nr | C142: =IFERROR(INDEX(Daten!$C$2:$C$1300,MATCH(E142,Daten!$D$2:$D$1300,0)),"") | D142: Name, Vorname | G142: Geb. | H142: =IFERROR(INDEX(Daten!$E$2:$E$1300,MATCH(E142,Daten!$D$2:$D$1300,0)),"")
B143: eVewa Nr | C143: =IFERROR(INDEX(Daten!$C$2:$C$1300,MATCH(E143,Daten!$D$2:$D$1300,0)),"") | D143: Name, Vorname | G143: Geb. | H143: =IFERROR(INDEX(Daten!$E$2:$E$1300,MATCH(E143,Daten!$D$2:$D$1300,0)),"")
B144: eVewa Nr | C144: =IFERROR(INDEX(Daten!$C$2:$C$1300,MATCH(E144,Daten!$D$2:$D$1300,0)),"") | D144: Name, Vorname | G144: Geb. | H144: =IFERROR(INDEX(Daten!$E$2:$E$1300,MATCH(E144,Daten!$D$2:$D$1300,0)),"")
B145: eVewa Nr | C145: =IFERROR(INDEX(Daten!$C$2:$C$1300,MATCH(E145,Daten!$D$2:$D$1300,0)),"") | D145: Name, Vorname | G145: Geb. | H145: =IFERROR(INDEX(Daten!$E$2:$E$1300,MATCH(E145,Daten!$D$2:$D$1300,0)),"")
B146: eVewa Nr | C146: =IFERROR(INDEX(Daten!$C$2:$C$1300,MATCH(E146,Daten!$D$2:$D$1300,0)),"") | D146: Name, Vorname | G146: Geb. | H146: =IFERROR(INDEX(Daten!$E$2:$E$1300,MATCH(E146,Daten!$D$2:$D$1300,0)),"")
B147: Kontaktperson | D147: Telefon
B152: Klasse | D152: Gruppe | F152: Mannschaft
B153: Gegner 1 | D153: Gegner 2 | F153: Gegner 3
B155: eVewa Nr | C155: =IFERROR(INDEX(Daten!$C$2:$C$1300,MATCH(E155,Daten!$D$2:$D$1300,0)),"") | D155: Name, Vorname | G155: Geb. | H155: =IFERROR(INDEX(Daten!$E$2:$E$1300,MATCH(E155,Daten!$D$2:$D$1300,0)),"")
B156: eVewa Nr | C156: =IFERROR(INDEX(Daten!$C$2:$C$1300,MATCH(E156,Daten!$D$2:$D$1300,0)),"") | D156: Name, Vorname | G156: Geb. | H156: =IFERROR(INDEX(Daten!$E$2:$E$1300,MATCH(E156,Daten!$D$2:$D$1300,0)),"")
B157: eVewa Nr | C157: =IFERROR(INDEX(Daten!$C$2:$C$1300,MATCH(E157,Daten!$D$2:$D$1300,0)),"") | D157: Name, Vorname | G157: Geb. | H157: =IFERROR(INDEX(Daten!$E$2:$E$1300,MATCH(E157,Daten!$D$2:$D$1300,0)),"")
B158: eVewa Nr | C158: =IFERROR(INDEX(Daten!$C$2:$C$1300,MATCH(E158,Daten!$D$2:$D$1300,0)),"") | D158: Name, Vorname | G158: Geb. | H158: =IFERROR(INDEX(Daten!$E$2:$E$1300,MATCH(E158,Daten!$D$2:$D$1300,0)),"")
B159: eVewa Nr | C159: =IFERROR(INDEX(Daten!$C$2:$C$1300,MATCH(E159,Daten!$D$2:$D$1300,0)),"") | D159: Name, Vorname | G159: Geb. | H159: =IFERROR(INDEX(Daten!$E$2:$E$1300,MATCH(E159,Daten!$D$2:$D$1300,0)),"")
B160: Kontaktperson | D160: Telefon
B165: Klasse | D165: Gruppe | F165: Mannschaft
...

Sheet Daten
A1: V-Nummer | B1: Bruderschaft | C1: eVewa | D1: Name | E1: Geb | G1: Klassen | J1: Gruppe
A2: 51101 | B2: St. Hub. Avenwedde | C2: 8767492 | D2: Avenwedde Birgit | E2: 27689 | G2: S (Lichtpunkt / SCATT) | J2: 1
A3: 51102 | B3: St. Seb. Avenwedde | C3: 1425162 | D3: Avenwedde Michael | E3: 25408 | G3: 01 Schülerklasse | J3: 2
A4: 51103 | B4: St. Hub. Batenhorst | C4: 1425209 | D4: Conrad Peter | E4: 23817 | G4: 02 Jugendklasse | J4: 3
A5: 51104 | B5: St. Ant. Benteler | C5: 1425216 | D5: Dreisilker Birgit | E5: 24367 | G5: 05 Schützenklasse | J5: 4
A6: 51105 | B6: St. Joh. Druffel | C6: 1466387 | D6: Dreisilker Jürgen | E6: 24008 | G6: 06 Schützenklasse
A7: 51106 | B7: St. Hub. Clarholz-Heerde | C7: 1466388 | D7: Dreisilker Kristin | E7: 34251 | G7: 07 Schützenklasse
A8: 51107 | B8: St. Hub. Kaunitz | C8: 1425226 | D8: Eickholz Petra | E8: 24496 | G8: 08 Schützenklasse
A9: 51108 | B9: St. Lam. Langenberg | C9: 8727261 | D9: Ernsting Burkhard | E9: 20855 | G9: 10 Altersklasse (Auflage)
A10: 51109 | B10: St. Jak. Mastholte | C10: 8727260 | D10: Ernsting Karin | E10: 21197 | G10: 11 Altersklasse (Auflage)
A11: 51110 | B11: St. Hub. Neuenkirchen | C11: 1466549 | D11: Flötotto Maximilian | E11: 33585 | G11: 12A Altersklasse (Auflage)
A12: 51111 | B12: St. Hub. Rietberg | C12: 1425253 | D12: Franz Ursula | E12: 20584 | G12: 12B Altersklasse (Auflage)
A13: 51112 | B13: St. Ben. Varensell | C13: 1425257 | D13: Frickenstein Henrike | E13: 33868 | G13: 12C Altersklasse (Auflage)
A14: 51113 | B14: St. Hub. Verl | C14: 1425256 | D14: Frickenstein Viktoria | E14: 31649 | G14: 13 Seniorenklasse (Auflage)
A15: 51114 | B15: St. Geo. Dreiländereck | C15: 1425274 | D15: Gerdtoberens Andreas | E15: 22214 | G15: 14 Seniorenklasse (Auflage)
A16: 51115 | B16: St. Lau. Westerwiehe | C16: 8745444 | D16: Godau Jan | E16: 35765 | G16: 15 Luftpistolenklasse
A17: 51116 | B17: St. Seb. Wiedenbrück | C17: 8660667 | D17: Graeßner Frederik | E17: 34188 | G17: 16 Luftpistolenklasse
A18: 51117 | B18: St. Hub. Spexard | C18: 8795642 | D18: Guhra Cornelia | E18: 23401
A19: 51118 | B19: St. Hub. Bokel | C19: 1466553 | D19: Hagenlüke Sebastian | E19: 32536
A20: 51119 | B20: St. Mic. Liemke | C20: 1466585 | D20: Hagenlüke Tanja | E20: 31031
C21: 1466554 | D21: Hamm Hendrik | E21: 26171
B22: Hub Avenwedde | C22: 1425303 | D22: Heine Andreas | E22: 25611
C23: 1425307 | D23: Heitmann Julian | E23: 36441
C24: 1425775 | D24: Heitmann Maik | E24: 28083
C25: 1425308 | D25: Heitmann Willy | E25: 17657
C26: 8701072 | D26: Hensdiek Margret | E26: 20324
C27: 1425326 | D27: Horsthemke Barbara | E27: 22724
C28: 1466557 | D28: Horsthemke Jessica | E28: 33314
C29: 1466556 | D29: Horsthemke Niklas | E29: 34913
C30: 1425329 | D30: Huntemann Willi | E30: 14351
C31: 1466558 | D31: Jäger Thorsten | E31: 26220
C32: 8795640 | D32: Johannhörster Aldona | E32: 29858
C33: 1425340 | D33: Kaminski Uwe | E33: 26505
C34: 1425341 | D34: Kapitza Martin | E34: 20406
... C71: 1466587 | D71: Stickling Tiana | E71: 34621
C72: 8745443 | D72: Stickling Jens | E72: 36298
C73: 1464228 | D73: Stollhans Heinrich | E73: 14802
C74: 1425538 | D74: Treptau Jörg | E74: 26142
C75: 8701075 | D75: Venjakob Sigrid | E75: 22394
C76: 1466561 | D76: Volkmann Jennifer | E76: 33257
C77: 1466591 | D77: Voßhans Sarah | E77: 32746
C78: 1466590 | D78: Voßhans Laura | E78: 33546
C79: 8781062 | D79: Wickern Delia | E79: 26191
C80: 1425560 | D80: Wickern Nicole | E80: 25704
C81: 1425563 | D81: Wickord Annette | E81: 21729
C82: 1425562 | D82: Wickord Hans-Dieter | E82: 21252
C83: 8706587 | D83: Wiemann Sabine | E83: 23314
C84: 1425567 | D84: Wiese Karl-Heinz | E84: 17374
... C86: 1425577 | D86: Wortmeyer Peter | E86: 22948
B87: Seb Avenwedde | C87: 8709605 | D87: =F87&", "&G87 -> Austermann, Dennis | E87: 30459 | F87: Austermann | G87: Dennis
C88: 8724499 | D88: =F88&", "&G88 -> Austermann, Michaela | E88: 30482 | F88: Austermann | G88: Michaela
C89: 8720414 | D89: =F89&", "&G89 -> Austermann, Robin | E89: 42085 | F89: Austermann | G89: Robin
C90: 8814293 | D90: =F90&", "&G90 -> Barthel, Frieda | E90: 42144 | F90: Barthel | G90: Frieda
C91: 1425613 | D91: =F91&", "&G91 -> Bastubbe, Dominik | E91: 29143 | F91: Bastubbe | G91: Dominik
C92: 8804160 | D92: =F92&", "&G92 -> Baylan, Bennet | E92: 41015 | F92: Baylan | G92: Bennet
C93: 8808209 | D93: =F93&", "&G93 -> Baylan, Julia | E93: 29607 | F93: Baylan | G93: Julia
C94: 1425640 | D94: =F94&", "&G94 -> Brandherm, Detlef | E94: 24666 | F94: Brandherm | G94: Detlef
C95: 8724500 | D95: =F95&", "&G95 -> Brockmann, Nadine | E95: 29149 | F95: Brockmann | G95: Nadine
C96: 8725617 | D96: =F96&", "&G96 -> Brockmann, Noah | E96: 39796 | F96: Brockmann | G96: Noah
C97: 8725618 | D97: =F97&", "&G97 -> Brockmann, Phil | E97: 40766 | F97: Brockmann | G97: Phil
C98: 1425655 | D98: =F98&", "&G98 -> Brummel, Martin | E98: 24086 | F98: Brummel | G98: Martin
C99: 8745174 | D99: =F99&", "&G99 -> Buschmann, Noah | E99: 39681 | F99: Buschmann | G99: Noah
... C153: 8794492 | D153: =F153&", "&G153 -> Westerwalbesloh, Laura | E153: 39730 | F153: Westerwalbesloh | G153: Laura
B154: Batenhorst | C154: 1403650 | D154: =F154&", "&G154 -> Aufderheide, Dieter | E154: 24289 | F154: Aufderheide | G154: Dieter
C155: 1403671 | D155: =F155&", "&G155 -> Belger, Ralf | E155: 24729 | F155: Belger | G155: Ralf
C156: 8673761 | D156: =F156&", "&G156 -> Berg, Frederic | E156: 36143 | F156: Berg | G156: Frederic
C157: 8760501 | D157: =F157&", "&G157 -> Berken, Till | E157: 38848 | F157: Berken | G157: Till
C158: 1403687 | D158: =F158&", "&G158 -> Billen, Marco | E158: 25688 | F158: Billen | G158: Marco
C159: 8742752 | D159: =F159&", "&G159 -> Billen, Margita | E159: 29112 | F159: Billen | G159: Margita
C160: 8717011 | D160: =F160&", "&G160 -> Böckmann, Axel | E160: 34072 | F160: Böckmann | G160: Axel
C161: 1403708 | D161: =F161&", "&G161 -> Briel, Maik | E161: 25518 | F161: Briel | G161: Maik
C162: 8673765 | D162: =F162&", "&G162 -> Brinkemper, Niklas | E162: 35225 | F162: Brinkemper | G162: Niklas
C163: 1426557 | D163: =F163&", "&G163 -> Brückner, Hanni | E163: 24771 | F163: Brückner | G163: Hanni
C164: 1403733 | D164: =F164&", "&G164 -> Brüggershemke, Dirk | E164: 28273 | F164: Brüggershemke | G164: Dirk
C165: 8715410 | D165: =F165&", "&G165 -> Bruland, Karin | E165: 23659 | F165: Bruland | G165: Karin
C166: 1446989 | D166: =F166&", "&G166 -> Bünte, Andreas | E166: 23806 | F166: Bünte | G166: Andreas
... C200: 1404348 | D200: =F200&", "&G200 -> Winter, Meinolf | E200: 27571 | F200: Winter | G200: Meinolf
B201: Benteler | C201: 8727154 | D201: =F201&", "&G201 -> Albert, Louis | E201: 38473 | F201: Albert | G201: Louis
C202: 8716502 | D202: =F202&", "&G202 -> Baumjohann, Christoph | E202: 35844 | F202: Baumjohann | G202: Christoph
C203: 1396841 | D203: =F203&", "&G203 -> Beerhues, Michael | E203: 21888 | F203: Beerhues | G203: Michael
C204: 8674444 | D204: =F204&", "&G204 -> Berganski, Christoph | E204: 35654 | F204: Berganski | G204: Christoph
C205: 8674443 | D205: =F205&", "&G205 -> Berganski, Simon | E205: 36329 | F205: Berganski | G205: Simon
C206: 8745636 | D206: =F206&", "&G206 -> Borgedain, Juliane | E206: 33976 | F206: Borgedain | G206: Juliane
C207: 1396875 | D207: =F207&", "&G207 -> Brunnert, Elisabeth | E207: 20032 | F207: Brunnert | G207: Elisabeth
C208: 1411886 | D208: =F208&", "&G208 -> Brunnert, Manfred | E208: 20156 | F208: Brunnert | G208: Manfred
C209: 8688831 | D209: =F209&", "&G209 -> Bussemas, Maximilian | E209: 35886 | F209: Bussemas | G209: Maximilian
C210: 8754234 | D210: =F210&", "&G210 -> Damhorst, Sarah | E210: 38925 | F210: Damhorst | G210: Sarah
C211: 8632513 | D211: =F211&", "&G211 -> Friese, Hans-Peter | E211: 16669 | F211: Friese | G211: Hans-Peter
C212: 8772756 | D212: =F212&", "&G212 -> Grüter, Marlon | E212: 39263 | F212: Grüter | G212: Marlon
C213: 1396997 | D213: =F213&", "&G213 -> Handing, Christian | E213: 27403 | F213: Handing | G213: Christian
... C239: 8722157 | D239: =F239&", "&G239 -> Walter, Finn-Lukas | E239: 38220 | F239: Walter | G239: Finn-Lukas
B240: Druffel | C240: 8794747 | D240: =F240&", "&G240 -> Beelenherm, Nele | E240: 38922 | F240: Beelenherm | G240: Nele
C241: 8664297 | D241: =F241&", "&G241 -> Blazetta, Rolf | E241: 22787 | F241: Blazetta | G241: Rolf
C242: 1441727 | D242: =F242&", "&G242 -> Brinkmann, Reinhard | E242: 24700 | F242: Brinkmann | G242: Reinhard
C243: 1441733 | D243: =F243&", "&G243 -> Brüggershemke, Robert | E243: 23631 | F243: Brüggershemke | G243: Robert
C244: 1441803 | D244: =F244&", "&G244 -> Gnädig, Bodo | E244: 19768 | F244: Gnädig | G244: Bodo
C245: 1441814 | D245: =F245&", "&G245 -> Grumbach, Harald | E245: 18940 | F245: Grumbach | G245: Harald
C246: 1441831 | D246: =F246&", "&G246 -> Hansmeier, Reinhold | E246: 21461 | F246: Hansmeier | G246: Reinhold
C247: 1441842 | D247: =F247&", "&G247 -> Herbeck, Ralf | E247: 21667 | F247: Herbeck | G247: Ralf
C248: 1441851 | D248: =F248&", "&G248 -> Himmeldirk, Markus | E248: 29475 | F248: Himmeldirk | G248: Markus
...
