Workbook

Sheet Formular
B2: M A N N S C H A F T S I N F O S A I S O N 2 0 2 6 / 2 0 2 7
I3: Daten Stand 18.09.2026
B5: Vereinsnummer | C5: =IFERROR(INDEX(Daten!$A$2:$A$20,MATCH(F5,Daten!$B$2:$B$21,0)),"") -> 51110 | E5: Verein / Bruderschaft | F5: St. Hub. Neuenkirchen
B9: Klasse | C9: 07 Schützenklasse | D9: Gruppe | E9: 2 | F9: Mannschaft | G9: 1
B10: Gegner 1 | C10: Gilde Verl 2 | D10: Gegner 2 | E10: Bokel 1 | F10: Gegner 3
B12: eVewa Nr | C12: =IFERROR(INDEX(Daten!$C$2:$C$1300,MATCH(E12,Daten!$D$2:$D$1300,0)),"") -> 1259619 | D12: Name, Vorname | E12: Kent, Dave John | G12: Geb. | H12: =IFERROR(INDEX(Daten!$E$2:$E$1300,MATCH(E12,Daten!$D$2:$D$1300,0)),"") -> 23534
B13: eVewa Nr | C13: =IFERROR(INDEX(Daten!$C$2:$C$1300,MATCH(E13,Daten!$D$2:$D$1300,0)),"") -> 8721526 | D13: Name, Vorname | E13: Bügemannskemper, Lars | G13: Geb. | H13: =IFERROR(INDEX(Daten!$E$2:$E$1300,MATCH(E13,Daten!$D$2:$D$1300,0)),"") -> 35223
B14: eVewa Nr | C14: =IFERROR(INDEX(Daten!$C$2:$C$1300,MATCH(E14,Daten!$D$2:$D$1300,0)),"") -> 8757607 | D14: Name, Vorname | E14: Schwienheer, Marvin | G14: Geb. | H14: =IFERROR(INDEX(Daten!$E$2:$E$1300,MATCH(E14,Daten!$D$2:$D$1300,0)),"") -> 33777
B15: eVewa Nr | C15: =IFERROR(INDEX(Daten!$C$2:$C$1300,MATCH(E15,Daten!$D$2:$D$1300,0)),"") -> 1259520 | D15: Name, Vorname | E15: Hansmeier, Marina | G15: Geb. | H15: =IFERROR(INDEX(Daten!$E$2:$E$1300,MATCH(E15,Daten!$D$2:$D$1300,0)),"") -> 32869
B16: eVewa Nr | C16: =IFERROR(INDEX(Daten!$C$2:$C$1300,MATCH(E16,Daten!$D$2:$D$1300,0)),"") -> 8720521 | D16: Name, Vorname | E16: Voßhenrich, Matthias | G16: Geb. | H16: =IFERROR(INDEX(Daten!$E$2:$E$1300,MATCH(E16,Daten!$D$2:$D$1300,0)),"") -> 26575
B17: Kontaktperson | D17: Telefon
B22: Klasse | C22: 11 Altersklasse (Auflage) | D22: Gruppe | E22: 4 | F22: Mannschaft | G22: 3
B23: Gegner 1 | C23: Varensell 2 | D23: Gegner 2 | E23: Langenberg 4 | F23: Gegner 3
B25: eVewa Nr | C25: =IFERROR(INDEX(Daten!$C$2:$C$1300,MATCH(E25,Daten!$D$2:$D$1300,0)),"") -> 8729322 | D25: Name, Vorname | E25: Bunger, Dirk | G25: Geb. | H25: =IFERROR(INDEX(Daten!$E$2:$E$1300,MATCH(E25,Daten!$D$2:$D$1300,0)),"") -> 25846
B26: eVewa Nr | C26: =IFERROR(INDEX(Daten!$C$2:$C$1300,MATCH(E26,Daten!$D$2:$D$1300,0)),"") -> 8693511 | D26: Name, Vorname | E26: Schemhaus, Heinz | G26: Geb. | H26: =IFERROR(INDEX(Daten!$E$2:$E$1300,MATCH(E26,Daten!$D$2:$D$1300,0)),"") -> 25501
B27: eVewa Nr | C27: =IFERROR(INDEX(Daten!$C$2:$C$1300,MATCH(E27,Daten!$D$2:$D$1300,0)),"") -> 1259510 | D27: Name, Vorname | E27: Funke, Martina | G27: Geb. | H27: =IFERROR(INDEX(Daten!$E$2:$E$1300,MATCH(E27,Daten!$D$2:$D$1300,0)),"") -> 24481
B28: eVewa Nr | C28: =IFERROR(INDEX(Daten!$C$2:$C$1300,MATCH(E28,Daten!$D$2:$D$1300,0)),"") -> 8720521 | D28: Name, Vorname | E28: Voßhenrich, Matthias | G28: Geb. | H28: =IFERROR(INDEX(Daten!$E$2:$E$1300,MATCH(E28,Daten!$D$2:$D$1300,0)),"") -> 26575
B29: eVewa Nr | C29: =IFERROR(INDEX(Daten!$C$2:$C$1300,MATCH(E29,Daten!$D$2:$D$1300,0)),"") | D29: Name, Vorname | G29: Geb. | H29: =IFERROR(INDEX(Daten!$E$2:$E$1300,MATCH(E29,Daten!$D$2:$D$1300,0)),"")
B30: Kontaktperson | C30: Heinz Schemhaus | D30: Telefon
B35: Klasse | C35: 12A Altersklasse (Auflage) | D35: Gruppe | E35: 3 | F35: Mannschaft | G35: 5
B36: Gegner 1 | C36: Mastholte 2 | D36: Gegner 2 | E36: Batenhorst 1 | F36: Gegner 3
B38: eVewa Nr | C38: =IFERROR(INDEX(Daten!$C$2:$C$1300,MATCH(E38,Daten!$D$2:$D$1300,0)),"") -> 8706929 | D38: Name, Vorname | E38: Heine, Jürgen | G38: Geb. | H38: =IFERROR(INDEX(Daten!$E$2:$E$1300,MATCH(E38,Daten!$D$2:$D$1300,0)),"") -> 24777
B39: eVewa Nr | C39: =IFERROR(INDEX(Daten!$C$2:$C$1300,MATCH(E39,Daten!$D$2:$D$1300,0)),"") -> 1259619 | D39: Name, Vorname | E39: Kent, Dave John | G39: Geb. | H39: =IFERROR(INDEX(Daten!$E$2:$E$1300,MATCH(E39,Daten!$D$2:$D$1300,0)),"") -> 23534
B40: eVewa Nr | C40: =IFERROR(INDEX(Daten!$C$2:$C$1300,MATCH(E40,Daten!$D$2:$D$1300,0)),"") -> 8708085 | D40: Name, Vorname | E40: Stukemeier, Stefanie | G40: Geb. | H40: =IFERROR(INDEX(Daten!$E$2:$E$1300,MATCH(E40,Daten!$D$2:$D$1300,0)),"") -> 25820
B41: eVewa Nr | C41: =IFERROR(INDEX(Daten!$C$2:$C$1300,MATCH(E41,Daten!$D$2:$D$1300,0)),"") | D41: Name, Vorname | G41: Geb. | H41: =IFERROR(INDEX(Daten!$E$2:$E$1300,MATCH(E41,Daten!$D$2:$D$1300,0)),"")
B42: eVewa Nr | C42: =IFERROR(INDEX(Daten!$C$2:$C$1300,MATCH(E42,Daten!$D$2:$D$1300,0)),"") | D42: Name, Vorname | G42: Geb. | H42: =IFERROR(INDEX(Daten!$E$2:$E$1300,MATCH(E42,Daten!$D$2:$D$1300,0)),"")
B43: Kontaktperson | D43: Telefon | E43: Schatzler-Godehard, Frank
B48: Klasse | C48: 12B Altersklasse (Auflage) | D48: Gruppe | E48: 1 | F48: Mannschaft | G48: 4
B49: Gegner 1 | C49: Benteler 1 | D49: Gegner 2 | E49: Wiedenbrück 1 | F49: Gegner 3
B51: eVewa Nr | C51: =IFERROR(INDEX(Daten!$C$2:$C$1300,MATCH(E51,Daten!$D$2:$D$1300,0)),"") -> 8672355 | D51: Name, Vorname | E51: Krull, Sven | G51: Geb. | H51: =IFERROR(INDEX(Daten!$E$2:$E$1300,MATCH(E51,Daten!$D$2:$D$1300,0)),"") -> 25928
B52: eVewa Nr | C52: =IFERROR(INDEX(Daten!$C$2:$C$1300,MATCH(E52,Daten!$D$2:$D$1300,0)),"") -> 8692224 | D52: Name, Vorname | E52: Richter, Frank | G52: Geb. | H52: =IFERROR(INDEX(Daten!$E$2:$E$1300,MATCH(E52,Daten!$D$2:$D$1300,0)),"") -> 24790
B53: eVewa Nr | C53: =IFERROR(INDEX(Daten!$C$2:$C$1300,MATCH(E53,Daten!$D$2:$D$1300,0)),"") -> 8691511 | D53: Name, Vorname | E53: Wördekemper, Roland | G53: Geb. | H53: =IFERROR(INDEX(Daten!$E$2:$E$1300,MATCH(E53,Daten!$D$2:$D$1300,0)),"") -> 25188
B54: eVewa Nr | C54: =IFERROR(INDEX(Daten!$C$2:$C$1300,MATCH(E54,Daten!$D$2:$D$1300,0)),"") -> 1361545 | D54: Name, Vorname | E54: Funke, Walter | G54: Geb. | H54: =IFERROR(INDEX(Daten!$E$2:$E$1300,MATCH(E54,Daten!$D$2:$D$1300,0)),"") -> 23729
B55: eVewa Nr | C55: =IFERROR(INDEX(Daten!$C$2:$C$1300,MATCH(E55,Daten!$D$2:$D$1300,0)),"") -> 8680295 | D55: Name, Vorname | E55: Andersen, Georg | G55: Geb. | H55: =IFERROR(INDEX(Daten!$E$2:$E$1300,MATCH(E55,Daten!$D$2:$D$1300,0)),"") -> 24073
B56: Kontaktperson | C56: Walter Funke | D56: Telefon
B61: Klasse | C61: 14 Seniorenklasse (Auflage) | D61: Gruppe | E61: 2 | F61: Mannschaft | G61: 1
B62: Gegner 1 | C62: Langenberg 2 | D62: Gegner 2 | E62: Hub. Avenwedde 1 | F62: Gegner 3 | G62: Batenhorst 2
B64: eVewa Nr | C64: =IFERROR(INDEX(Daten!$C$2:$C$1300,MATCH(E64,Daten!$D$2:$D$1300,0)),"") -> 1442009 | D64: Name, Vorname | E64: Ostermann, Frank | G64: Geb. | H64: =IFERROR(INDEX(Daten!$E$2:$E$1300,MATCH(E64,Daten!$D$2:$D$1300,0)),"") -> 22824
B65: eVewa Nr | C65: =IFERROR(INDEX(Daten!$C$2:$C$1300,MATCH(E65,Daten!$D$2:$D$1300,0)),"") -> 1259513 | D65: Name, Vorname | E65: Funkenmeier, Wolfgang | G65: Geb. | H65: =IFERROR(INDEX(Daten!$E$2:$E$1300,MATCH(E65,Daten!$D$2:$D$1300,0)),"") -> 23222
B66: eVewa Nr | C66: =IFERROR(INDEX(Daten!$C$2:$C$1300,MATCH(E66,Daten!$D$2:$D$1300,0)),"") -> 1410563 | D66: Name, Vorname | E66: Kriener , Michael | G66: Geb. | H66: =IFERROR(INDEX(Daten!$E$2:$E$1300,MATCH(E66,Daten!$D$2:$D$1300,0)),"") -> 23100
...

Sheet Daten
A1: V-Nummer | B1: Bruderschaft | C1: eVewa | D1: Name | E1: Geb | G1: Klassen | J1: Gruppe
A2: 51101 | B2: St. Hub. Avenwedde | C2: 8767492 | D2: Avenwedde Birgit | E2: 27689 | G2: S (Lichtpunkt / SCATT) | J2: 1
A3: 51102 | B3: St. Seb. Avenwedde | C3: 1425162 | D3: Avenwedde Michael | E3: 25408 | G3: 01 Schülerklasse | J3: 2
A4: 51103 | B4: St. Hub. Batenhorst | C4: 1425209 | D4: Conrad Peter | E4: 23817 | G4: 02 Jugendklasse | J4: 3
A5: 51104 | B5: St. Ant. Benteler | C5: 1425216 | D5: Dreisilker Birgit | E5: 24367 | G5: 05 Schützenklasse | J5: 4
A6: 51105 | B6: St. Joh. Druffel | C6: 1466387 | D6: Dreisilker Jürgen | E6: 24008 | G6: 06 Schützenklasse
A7: 51106 | B7: St. Hub. Clarholz-Heerde | C7: 1466388 | D7: Dreisilker Kristin | E7: 34251 | G7: 07 Schützenklasse
A8: 51107 | B8: St. Hub. Kaunitz | C8: 1425226 | D8: Eickholz Petra | E8: 24496 | G8: 08 Schützenklasse
A9: 51108 | B9: St. Lam. Langenberg | C9: 8727261 | D9: Ernsting Burkhard | E9: 20855 | G9: 10 Altersklasse (Auflage)
A10: 51109 | B10: St. Jak. Mastholte | C10: 8727260 | D10: Ernsting Karin | E10: 21197 | G10: 11 Altersklasse (Auflage)
A11: 51110 | B11: St. Hub. Neuenkirchen | C11: 1466549 | D11: Flötotto Maximilian | E11: 33585 | G11: 12A Altersklasse (Auflage)
A12: 51111 | B12: St. Hub. Rietberg | C12: 1425253 | D12: Franz Ursula | E12: 20584 | G12: 12B Altersklasse (Auflage)
A13: 51112 | B13: St. Ben. Varensell | C13: 1425257 | D13: Frickenstein Henrike | E13: 33868 | G13: 12C Altersklasse (Auflage)
A14: 51113 | B14: St. Hub. Verl | C14: 1425256 | D14: Frickenstein Viktoria | E14: 31649 | G14: 13 Seniorenklasse (Auflage)
A15: 51114 | B15: St. Geo. Dreiländereck | C15: 1425274 | D15: Gerdtoberens Andreas | E15: 22214 | G15: 14 Seniorenklasse (Auflage)
A16: 51115 | B16: St. Lau. Westerwiehe | C16: 8745444 | D16: Godau Jan | E16: 35765 | G16: 15 Luftpistolenklasse
A17: 51116 | B17: St. Seb. Wiedenbrück | C17: 8660667 | D17: Graeßner Frederik | E17: 34188 | G17: 16 Luftpistolenklasse
A18: 51117 | B18: St. Hub. Spexard | C18: 8795642 | D18: Guhra Cornelia | E18: 23401
A19: 51118 | B19: St. Hub. Bokel | C19: 1466553 | D19: Hagenlüke Sebastian | E19: 32536
A20: 51119 | B20: St. Mic. Liemke | C20: 1466585 | D20: Hagenlüke Tanja | E20: 31031
C21: 1466554 | D21: Hamm Hendrik | E21: 26171
B22: Hub Avenwedde | C22: 1425303 | D22: Heine Andreas | E22: 25611
C23: 1425307 | D23: Heitmann Julian | E23: 36441
C24: 1425775 | D24: Heitmann Maik | E24: 28083
C25: 1425308 | D25: Heitmann Willy | E25: 17657
C26: 8701072 | D26: Hensdiek Margret | E26: 20324
C27: 1425326 | D27: Horsthemke Barbara | E27: 22724
C28: 1466557 | D28: Horsthemke Jessica | E28: 33314
C29: 1466556 | D29: Horsthemke Niklas | E29: 34913
C30: 1425329 | D30: Huntemann Willi | E30: 14351
C31: 1466558 | D31: Jäger Thorsten | E31: 26220
C32: 8795640 | D32: Johannhörster Aldona | E32: 29858
C33: 1425340 | D33: Kaminski Uwe | E33: 26505
C34: 1425341 | D34: Kapitza Martin | E34: 20406
... C71: 1466587 | D71: Stickling Tiana | E71: 34621
C72: 8745443 | D72: Stickling Jens | E72: 36298
C73: 1464228 | D73: Stollhans Heinrich | E73: 14802
C74: 1425538 | D74: Treptau Jörg | E74: 26142
C75: 8701075 | D75: Venjakob Sigrid | E75: 22394
C76: 1466561 | D76: Volkmann Jennifer | E76: 33257
...
